



BEGIN:VCALENDAR
VERSION:2.0
PRODID:-//KiaK Kinderactiviteiten - ECPv6.15.20//NONSGML v1.0//EN
CALSCALE:GREGORIAN
METHOD:PUBLISH
X-WR-CALNAME:KiaK Kinderactiviteiten
X-ORIGINAL-URL:https://kiak.nl
X-WR-CALDESC:Evenementen voor KiaK Kinderactiviteiten
REFRESH-INTERVAL;VALUE=DURATION:PT1H
X-Robots-Tag:noindex
X-PUBLISHED-TTL:PT1H
BEGIN:VTIMEZONE
TZID:Europe/Amsterdam
BEGIN:DAYLIGHT
TZOFFSETFROM:+0100
TZOFFSETTO:+0200
TZNAME:CEST
DTSTART:20250330T010000
END:DAYLIGHT
BEGIN:STANDARD
TZOFFSETFROM:+0200
TZOFFSETTO:+0100
TZNAME:CET
DTSTART:20251026T010000
END:STANDARD
BEGIN:DAYLIGHT
TZOFFSETFROM:+0100
TZOFFSETTO:+0200
TZNAME:CEST
DTSTART:20260329T010000
END:DAYLIGHT
BEGIN:STANDARD
TZOFFSETFROM:+0200
TZOFFSETTO:+0100
TZNAME:CET
DTSTART:20261025T010000
END:STANDARD
BEGIN:DAYLIGHT
TZOFFSETFROM:+0100
TZOFFSETTO:+0200
TZNAME:CEST
DTSTART:20270328T010000
END:DAYLIGHT
BEGIN:STANDARD
TZOFFSETFROM:+0200
TZOFFSETTO:+0100
TZNAME:CET
DTSTART:20271031T010000
END:STANDARD
END:VTIMEZONE
BEGIN:VEVENT
DTSTART;VALUE=DATE:20260427
DTEND;VALUE=DATE:20260428
DTSTAMP:20260420T040555
CREATED:20250723T130729Z
LAST-MODIFIED:20250723T130729Z
UID:7612-1777248000-1777334399@kiak.nl
SUMMARY:KiaK @ Koningsdag
DESCRIPTION:
URL:https://kiak.nl/agenda-item/kiak-koningsdag-2/
LOCATION:CC de Schakel\, Kerkstraat 104\, Gilze\, 5126 GD\, Nederland
ATTACH;FMTTYPE=image/jpeg:https://kiak.nl/wp-content/uploads/2025/04/IMG_6809.jpeg
ORGANIZER;CN="KiaK Kinderactiviteiten":MAILTO:werkgroep@kiak.nl
END:VEVENT
BEGIN:VEVENT
DTSTART;TZID=Europe/Amsterdam:20260522T190000
DTEND;TZID=Europe/Amsterdam:20260522T220000
DTSTAMP:20260420T040555
CREATED:20250723T130853Z
LAST-MODIFIED:20250723T130853Z
UID:7615-1779476400-1779487200@kiak.nl
SUMMARY:KiaK @ Mollebos - Disco
DESCRIPTION:
URL:https://kiak.nl/agenda-item/kiak-mollebos-disco/
LOCATION:Mollebosfist\, Mollebos\, Gilze\, Noord-Brabant\, Nederland
ATTACH;FMTTYPE=image/jpeg:https://kiak.nl/wp-content/uploads/2025/06/DSC_5784.jpg
ORGANIZER;CN="KiaK Kinderactiviteiten":MAILTO:werkgroep@kiak.nl
END:VEVENT
BEGIN:VEVENT
DTSTART;TZID=Europe/Amsterdam:20260525T140000
DTEND;TZID=Europe/Amsterdam:20260525T170000
DTSTAMP:20260420T040555
CREATED:20250723T131017Z
LAST-MODIFIED:20250723T131017Z
UID:7617-1779717600-1779728400@kiak.nl
SUMMARY:KiaK @ Mollebos
DESCRIPTION:
URL:https://kiak.nl/agenda-item/kiak-mollebos-2/
LOCATION:Mollebosfist\, Mollebos\, Gilze\, Noord-Brabant\, Nederland
ATTACH;FMTTYPE=image/jpeg:https://kiak.nl/wp-content/uploads/2025/06/DSC_5933.jpg
ORGANIZER;CN="KiaK Kinderactiviteiten":MAILTO:werkgroep@kiak.nl
END:VEVENT
BEGIN:VEVENT
DTSTART;VALUE=DATE:20260817
DTEND;VALUE=DATE:20260822
DTSTAMP:20260420T040555
CREATED:20250723T131416Z
LAST-MODIFIED:20250723T131416Z
UID:7621-1786924800-1787356799@kiak.nl
SUMMARY:KiaK Kindervakantieweek 2026
DESCRIPTION:
URL:https://kiak.nl/agenda-item/kiak-kindervakantieweek-2026/
LOCATION:De Spie\, Scouting Gilze
ATTACH;FMTTYPE=image/jpeg:https://kiak.nl/wp-content/uploads/2024/09/DSC_2992.jpg
ORGANIZER;CN="KiaK Kinderactiviteiten":MAILTO:werkgroep@kiak.nl
END:VEVENT
END:VCALENDAR